BEGIN:VCALENDAR
VERSION:2.0
PRODID:-//Waslam - ECPv6.5.0//NONSGML v1.0//EN
CALSCALE:GREGORIAN
METHOD:PUBLISH
X-WR-CALNAME:Waslam
X-ORIGINAL-URL:https://waslam.lk
X-WR-CALDESC:Events for Waslam
REFRESH-INTERVAL;VALUE=DURATION:PT1H
X-Robots-Tag:noindex
X-PUBLISHED-TTL:PT1H
BEGIN:VTIMEZONE
TZID:UTC
BEGIN:STANDARD
TZOFFSETFROM:+0000
TZOFFSETTO:+0000
TZNAME:UTC
DTSTART:20230101T000000
END:STANDARD
END:VTIMEZONE
BEGIN:VEVENT
DTSTART;TZID=UTC:20230709T150000
DTEND;TZID=UTC:20230709T170000
DTSTAMP:20260421T171647
CREATED:20230708T131111Z
LAST-MODIFIED:20230708T131111Z
UID:1186-1688914800-1688922000@waslam.lk
SUMMARY:2nd BOM meeting at 3 pm. at the residence of the President
DESCRIPTION:9th July 2023 – 2nd BOM meeting at 3 pm. at the residence of the president.\n239B Polhengoda Road\, Colombo 05.
URL:https://waslam.lk/event/2nd-bom-meeting-at-3-pm-at-the-residence-of-the-president/
END:VEVENT
END:VCALENDAR