BEGIN:VCALENDAR
VERSION:2.0
PRODID:-//Waslam - ECPv6.5.0//NONSGML v1.0//EN
CALSCALE:GREGORIAN
METHOD:PUBLISH
X-WR-CALNAME:Waslam
X-ORIGINAL-URL:https://waslam.lk
X-WR-CALDESC:Events for Waslam
REFRESH-INTERVAL;VALUE=DURATION:PT1H
X-Robots-Tag:noindex
X-PUBLISHED-TTL:PT1H
BEGIN:VTIMEZONE
TZID:Asia/Kolkata
BEGIN:STANDARD
TZOFFSETFROM:+0530
TZOFFSETTO:+0530
TZNAME:IST
DTSTART:20230101T000000
END:STANDARD
END:VTIMEZONE
BEGIN:VEVENT
DTSTART;TZID=Asia/Kolkata:20230716T073000
DTEND;TZID=Asia/Kolkata:20230716T173000
DTSTAMP:20260421T171622
CREATED:20230708T130635Z
LAST-MODIFIED:20230708T130855Z
UID:1181-1689492600-1689528600@waslam.lk
SUMMARY:"Fun day outing to Wadduwa on the 22nd of July "
DESCRIPTION:Assalamu Alaikum \n \nDear members\, all joining the “Fun day outing to Wadduwa on the 22nd of July ” Please be kind enough to make payments b4 the 15th of July.\nAccount details given below. \nWomen’s Association of Sri Lanka Malays.\nCommercial Bank\nBranch – Narahenpita\nA/C No 1220024839 \nKindly whatsapp your payment slip to Slasha or Mersumi \nJazakallah Khair
URL:https://waslam.lk/event/fun-day-outing-to-wadduwa-on-the-22nd-of-july/
ATTACH;FMTTYPE=image/jpeg:https://waslam.lk/wp-content/uploads/2023/07/WhatsApp-Image-2023-07-06-at-20.45.13.jpg
END:VEVENT
END:VCALENDAR